Workbook

Sheet TKL
A1: TKL - 2011 MPB Update
A2: Area (ha) of MPB Attack Severity by Age Class and Density within Pine Stands (Pine Species >= 30% density - The Pine Mask)
A3: TSA Area | B3: 1240841.2
A4: Pine Mask Unharvested Area | B4: =SUM(data!D2:D200) -> 157093.1
A6: MPB Attack as a percentage of Pine affected within the VRI Stand
A8: MPB Attack Severity
C9: Light (<11%) | E9: Moderate (11-30%) | G9: Severe (31-50%) | I9: Very Severe (>50%) | K9: All Severity | M9: No Attack
A10: Age Class | B10: Pine Density | C10: Area (ha) | D10: Percent of all Pine (Pine Mask) | E10: Area (ha) | F10: Percent of all Pine (Pine Mask) | G10: Area (ha) | H10: Percent of all Pine (Pine Mask) | I10: Area (ha) | J10: Percent of all Pine (Pine Mask) | K10: Total Area of Attack (ha) | L10: Percent of all Pine (Pine Mask) | M10: Area (ha) | N10: Percent of all Pine (Pine Mask)
A11: 21-40 years | B11: 30-70% | C11: {=SUM(IF(data!A2:A200="21-40 years",IF(data!B2:B200="30-70%",IF(data!C2:C200="Light (<11%)",data!D2:D200,0),0),0))} -> 814.89157 | D11: =C11/($K$20+$M$20) -> 0.0055245723 | E11: {=SUM(IF(data!A2:A200="21-40 years",IF(data!B2:B200="30-70%",IF(data!C2:C200="Moderate (11-30%)",data!D2:D200,0),0),0))} -> 423.59698 | F11: =E11/($K$20+$M$20) -> 0.0028717834 | G11: {=SUM(IF(data!A2:A200="21-40 years",IF(data!B2:B200="30-70%",IF(data!C2:C200="Severe (31-50%)",data!D2:D200,0),0),0))} -> 139.9633 | H11: =G11/($K$20+$M$20) -> 0.00094888374 | I11: {=SUM(IF(data!A2:A200="21-40 years",IF(data!B2:B200="30-70%",IF(data!C2:C200="Very Severe (>50%)",data!D2:D200,0),0),0))} -> 107.13614 | J11: =I11/($K$20+$M$20) -> 0.00072633143 | K11: =SUM(C11,E11,G11,I11) -> 1485.588 | L11: =K11/($K$20+$M$20) -> 0.010071571 | M11: {=SUM(IF(data!A2:A200="21-40 years",IF(data!B2:B200="30-70%",IF(data!C2:C200="No Attack",data!D2:D200,0),0),0))} -> 3289.3907 | N11: =M11/($K$20+$M$20) -> 0.022300485
B12: >70% | C12: {=SUM(IF(data!A2:A200="21-40 years",IF(data!B2:B200=">70%",IF(data!C2:C200="Light (<11%)",data!D2:D200,0),0),0))} -> 378.17816 | D12: =C12/($K$20+$M$20) -> 0.0025638657 | E12: {=SUM(IF(data!A2:A200="21-40 years",IF(data!B2:B200=">70%",IF(data!C2:C200="Moderate (11-30%)",data!D2:D200,0),0),0))} -> 332.82167 | F12: =E12/($K$20+$M$20) -> 0.0022563706 | G12: {=SUM(IF(data!A2:A200="21-40 years",IF(data!B2:B200=">70%",IF(data!C2:C200="Severe (31-50%)",data!D2:D200,0),0),0))} -> 64.800033 | H12: =G12/($K$20+$M$20) -> 0.000439313 | I12: {=SUM(IF(data!A2:A200="21-40 years",IF(data!B2:B200=">70%",IF(data!C2:C200="Very Severe (>50%)",data!D2:D200,0),0),0))} -> 50.059643 | J12: =I12/($K$20+$M$20) -> 0.00033938026 | K12: =SUM(C12,E12,G12,I12) -> 825.85951 | L12: =K12/($K$20+$M$20) -> 0.0055989296 | M12: {=SUM(IF(data!A2:A200="21-40 years",IF(data!B2:B200=">70%",IF(data!C2:C200="No Attack",data!D2:D200,0),0),0))} -> 2748.8214 | N12: =M12/($K$20+$M$20) -> 0.018635685
A14: 41-60 years | B14: 30-70% | C14: {=SUM(IF(data!A2:A200="41-60 years",IF(data!B2:B200="30-70%",IF(data!C2:C200="Light (<11%)",data!D2:D200,0),0),0))} -> 447.95747 | D14: =C14/($K$20+$M$20) -> 0.0030369358 | E14: {=SUM(IF(data!A2:A200="41-60 years",IF(data!B2:B200="30-70%",IF(data!C2:C200="Moderate (11-30%)",data!D2:D200,0),0),0))} -> 469.45992 | F14: =E14/($K$20+$M$20) -> 0.0031827121 | G14: {=SUM(IF(data!A2:A200="41-60 years",IF(data!B2:B200="30-70%",IF(data!C2:C200="Severe (31-50%)",data!D2:D200,0),0),0))} -> 188.15492 | H14: =G14/($K$20+$M$20) -> 0.0012755997 | I14: {=SUM(IF(data!A2:A200="41-60 years",IF(data!B2:B200="30-70%",IF(data!C2:C200="Very Severe (>50%)",data!D2:D200,0),0),0))} -> 376.91498 | J14: =I14/($K$20+$M$20) -> 0.002555302 | K14: =SUM(C14,E14,G14,I14) -> 1482.4873 | L14: =K14/($K$20+$M$20) -> 0.01005055 | M14: {=SUM(IF(data!A2:A200="41-60 years",IF(data!B2:B200="30-70%",IF(data!C2:C200="No Attack",data!D2:D200,0),0),0))} -> 1840.7749 | N14: =M14/($K$20+$M$20) -> 0.012479567
B15: >70% | C15: {=SUM(IF(data!A2:A200="41-60 years",IF(data!B2:B200=">70%",IF(data!C2:C200="Light (<11%)",data!D2:D200,0),0),0))} -> 87.338886 | D15: =C15/($K$20+$M$20) -> 0.00059211557 | E15: {=SUM(IF(data!A2:A200="41-60 years",IF(data!B2:B200=">70%",IF(data!C2:C200="Moderate (11-30%)",data!D2:D200,0),0),0))} -> 99.379282 | F15: =E15/($K$20+$M$20) -> 0.00067374366 | G15: {=SUM(IF(data!A2:A200="41-60 years",IF(data!B2:B200=">70%",IF(data!C2:C200="Severe (31-50%)",data!D2:D200,0),0),0))} -> 50.630708 | H15: =G15/($K$20+$M$20) -> 0.00034325181 | I15: {=SUM(IF(data!A2:A200="41-60 years",IF(data!B2:B200=">70%",IF(data!C2:C200="Very Severe (>50%)",data!D2:D200,0),0),0))} -> 185.00657 | J15: =I15/($K$20+$M$20) -> 0.0012542554 | K15: =SUM(C15,E15,G15,I15) -> 422.35545 | L15: =K15/($K$20+$M$20) -> 0.0028633665 | M15: {=SUM(IF(data!A2:A200="41-60 years",IF(data!B2:B200=">70%",IF(data!C2:C200="No Attack",data!D2:D200,0),0),0))} -> 1059.2128 | N15: =M15/($K$20+$M$20) -> 0.0071809522
A17: >60 years | B17: 30-70% | C17: {=SUM(IF(data!A2:A200=">60 years",IF(data!B2:B200="30-70%",IF(data!C2:C200="Light (<11%)",data!D2:D200,0),0),0))} -> 6932.2108 | D17: =C17/($K$20+$M$20) -> 0.046997049 | E17: {=SUM(IF(data!A2:A200=">60 years",IF(data!B2:B200="30-70%",IF(data!C2:C200="Moderate (11-30%)",data!D2:D200,0),0),0))} -> 8081.4586 | F17: =E17/($K$20+$M$20) -> 0.054788396 | G17: {=SUM(IF(data!A2:A200=">60 years",IF(data!B2:B200="30-70%",IF(data!C2:C200="Severe (31-50%)",data!D2:D200,0),0),0))} -> 7214.0332 | H17: =G17/($K$20+$M$20) -> 0.04890767 | I17: {=SUM(IF(data!A2:A200=">60 years",IF(data!B2:B200="30-70%",IF(data!C2:C200="Very Severe (>50%)",data!D2:D200,0),0),0))} -> 19455.181 | J17: =I17/($K$20+$M$20) -> 0.13189676 | K17: =SUM(C17,E17,G17,I17) -> 41682.884 | L17: =K17/($K$20+$M$20) -> 0.28258987 | M17: {=SUM(IF(data!A2:A200=">60 years",IF(data!B2:B200="30-70%",IF(data!C2:C200="No Attack",data!D2:D200,0),0),0))} -> 32802.843 | N17: =M17/($K$20+$M$20) -> 0.22238747
B18: >70% | C18: {=SUM(IF(data!A2:A200=">60 years",IF(data!B2:B200=">70%",IF(data!C2:C200="Light (<11%)",data!D2:D200,0),0),0))} -> 4630.9878 | D18: =C18/($K$20+$M$20) -> 0.031395866 | E18: {=SUM(IF(data!A2:A200=">60 years",IF(data!B2:B200=">70%",IF(data!C2:C200="Moderate (11-30%)",data!D2:D200,0),0),0))} -> 5660.5833 | F18: =E18/($K$20+$M$20) -> 0.038376028 | G18: {=SUM(IF(data!A2:A200=">60 years",IF(data!B2:B200=">70%",IF(data!C2:C200="Severe (31-50%)",data!D2:D200,0),0),0))} -> 5468.5488 | H18: =G18/($K$20+$M$20) -> 0.037074126 | I18: {=SUM(IF(data!A2:A200=">60 years",IF(data!B2:B200=">70%",IF(data!C2:C200="Very Severe (>50%)",data!D2:D200,0),0),0))} -> 15468.728 | J18: =I18/($K$20+$M$20) -> 0.10487052 | K18: =SUM(C18,E18,G18,I18) -> 31228.848 | L18: =K18/($K$20+$M$20) -> 0.21171654 | M18: {=SUM(IF(data!A2:A200=">60 years",IF(data!B2:B200=">70%",IF(data!C2:C200="No Attack",data!D2:D200,0),0),0))} -> 28634.041 | N18: =M18/($K$20+$M$20) -> 0.19412501
A20: Total | C20: =SUM(C11:C18) -> 13291.565 | D20: =C20/($K$20+$M$20) -> 0.090110405 | E20: =SUM(E11:E18) -> 15067.3 | F20: =E20/($K$20+$M$20) -> 0.10214903 | G20: =SUM(G11:G18) -> 13126.131 | H20: =G20/($K$20+$M$20) -> 0.088988844 | I20: =SUM(I11:I18) -> 35643.027 | J20: =I20/($K$20+$M$20) -> 0.24164255 | K20: =SUM(K11:K18) -> 77128.022 | L20: =SUM(L11:L18) -> 0.52289083 | M20: =SUM(M11:M18) -> 70375.084 | N20: =SUM(N11:N18) -> 0.47710917

Sheet data
A1: Age Class | B1: Pine Density | C1: MPB Attack Severity | D1: Sum Of area_ha
A2: <21 years | B2: >70% | C2: Light (<11%) | D2: 109.24881
A3: <21 years | B3: >70% | C3: Light (<11%) | D3: 593.02662
A4: <21 years | B4: >70% | C4: Light (<11%) | D4: 6.6207192
A5: <21 years | B5: >70% | C5: Moderate (11-30%) | D5: 77.370911
A6: <21 years | B6: >70% | C6: Moderate (11-30%) | D6: 196.23479
A7: <21 years | B7: >70% | C7: Moderate (11-30%) | D7: 1.6119799
A8: <21 years | B8: >70% | C8: No Attack | D8: 2777.6719
A9: <21 years | B9: >70% | C9: No Attack | D9: 89.442521
A10: <21 years | B10: >70% | C10: No Attack | D10: 162.3837
A11: <21 years | B11: >70% | C11: No Attack | D11: 24.906974
A12: <21 years | B12: >70% | C12: Severe (31-50%) | D12: 51.647737
A13: <21 years | B13: >70% | C13: Severe (31-50%) | D13: 83.188212
... A114: 41-60 years | B114: 30-70% | C114: Very Severe (>50%) | D114: 57.781273

Sheet Sheet3
